BEGIN:VCALENDAR
VERSION:2.0
METHOD:PUBLISH
PRODID:-//SD.NET RIM v1.0//DE
CALSCALE:GREGORIAN
X-WR-CALNAME:SD.NET RIM
X-WR-TIMEZONE:Europe/Berlin
BEGIN:VTIMEZONE
TZID:Europe/Berlin
X-LIC-LOCATION:Europe/Berlin
BEGIN:DAYLIGHT
TZOFFSETFROM:+0100
TZOFFSETTO:+0200
TZNAME:CEST
DTSTART:19700329T020000
RRULE:FREQ=YEARLY;BYMONTH=3;BYDAY=-1SU
END:DAYLIGHT
BEGIN:STANDARD
TZOFFSETFROM:+0200
TZOFFSETTO:+0100
TZNAME:CET
DTSTART:19701025T030000
RRULE:FREQ=YEARLY;BYMONTH=10;BYDAY=-1SU
END:STANDARD
END:VTIMEZONE
BEGIN:VEVENT
DTSTAMP:20260423T231838Z
DTSTART:20260423T163000Z
DTEND:20260423T173000Z
SUMMARY:Gemeindevorstand
DESCRIPTION:Link zur Tagesordnung: https://rim.ekom21.de/langgoens/tops/?__=UGhVM0hpd2NXNFdFcExjZTsN0p373JpJvIPTfC1yZeU
UID:2026043165
LOCATION:Bürgerhaus Langgöns, 35428 Langgöns, Kleiner Saal Bürgerhaus Langgöns
END:VEVENT

BEGIN:VEVENT
DTSTAMP:20260423T231838Z
DTSTART:20260423T180000Z
DTEND:20260423T210000Z
SUMMARY:Gemeindevertretung
DESCRIPTION:Link zur Tagesordnung: https://rim.ekom21.de/langgoens/tops/?__=UGhVM0hpd2NXNFdFcExjZdYWFusV-SxtJSNlxVU4rY8\n\nBemerkung:\nKonstituierende Sitzung
UID:2026043106
LOCATION:Bürgerhaus Langgöns, 35428 Langgöns, Großer Saal Bürgerhaus Langgöns
END:VEVENT

BEGIN:VEVENT
DTSTAMP:20260423T231838Z
DTSTART:20260507T150000Z
DTEND:20260507T173000Z
SUMMARY:Gemeindevorstand
DESCRIPTION:Link zur Tagesordnung: https://rim.ekom21.de/langgoens/tops/?__=UGhVM0hpd2NXNFdFcExjZah59mKDvNE02Fb7WXIuZDE
UID:2026053166
LOCATION:Rathaus, 35428 Langgöns, Sitzungszimmer im Rathaus Langgöns
END:VEVENT

BEGIN:VEVENT
DTSTAMP:20260423T231838Z
DTSTART:20260521T180000Z
DTEND:20260521T210000Z
SUMMARY:Gemeindevertretung
DESCRIPTION:Link zur Tagesordnung: https://rim.ekom21.de/langgoens/tops/?__=UGhVM0hpd2NXNFdFcExjZWijfiQThNV-W2gAr87ByXo
UID:2026053107
LOCATION:Bürgerhaus Cleeberg, 35428 Langgöns, Bürgerhaus Cleeberg
END:VEVENT

END:VCALENDAR