BEGIN:VCALENDAR
VERSION:2.0
METHOD:PUBLISH
PRODID:-//SD.NET RIM v1.0//DE
CALSCALE:GREGORIAN
X-WR-CALNAME:SD.NET RIM
X-WR-TIMEZONE:Europe/Berlin
BEGIN:VTIMEZONE
TZID:Europe/Berlin
X-LIC-LOCATION:Europe/Berlin
BEGIN:DAYLIGHT
TZOFFSETFROM:+0100
TZOFFSETTO:+0200
TZNAME:CEST
DTSTART:19700329T020000
RRULE:FREQ=YEARLY;BYMONTH=3;BYDAY=-1SU
END:DAYLIGHT
BEGIN:STANDARD
TZOFFSETFROM:+0200
TZOFFSETTO:+0100
TZNAME:CET
DTSTART:19701025T030000
RRULE:FREQ=YEARLY;BYMONTH=10;BYDAY=-1SU
END:STANDARD
END:VTIMEZONE
BEGIN:VEVENT
DTSTAMP:20260421T155751Z
DTSTART:20260423T173000Z
DTEND:20260423T200000Z
SUMMARY:Stadtverordnetenversammlung
DESCRIPTION:Link zur Tagesordnung: https://rim.ekom21.de/raunheim/tops/?__=UGhVM0hpd2NXNFdFcExjZRFUcrREFYKI8XFDFw-VAvo\n\nBemerkung:\nKonstituierende Sitzung
UID:2026045410
LOCATION:Rathaus, 65479 Raunheim, Bürgersaal
END:VEVENT

BEGIN:VEVENT
DTSTAMP:20260421T155751Z
DTSTART:20260428T170000Z
DTEND:20260428T181000Z
SUMMARY:Ausländerbeirat
DESCRIPTION:Link zur Tagesordnung: https://rim.ekom21.de/raunheim/tops/?__=UGhVM0hpd2NXNFdFcExjZWhGuxXSVECY25YQn7FDolU\n\nBemerkung:\nKonstituierende Sitzung
UID:2026045411
LOCATION:Rathaus, 65479 Raunheim, Bürgersaal
END:VEVENT

BEGIN:VEVENT
DTSTAMP:20260421T155751Z
DTSTART:20260518T163000Z
DTEND:20260518T171500Z
SUMMARY:Jugend-, Sport-, Sozial- und Kulturausschuss
DESCRIPTION:Link zur Tagesordnung: https://rim.ekom21.de/raunheim/tops/?__=UGhVM0hpd2NXNFdFcExjZe4245adqFvXJl0fVTP6Y-I\n\nBemerkung:\nKonstituierende Sitzung
UID:2026055413
LOCATION:Rathaus, 65479 Raunheim, Bürgersaal
END:VEVENT

BEGIN:VEVENT
DTSTAMP:20260421T155751Z
DTSTART:20260518T173000Z
DTEND:20260518T183000Z
SUMMARY:Bau-, Planungs- und Umweltausschuss
DESCRIPTION:Link zur Tagesordnung: https://rim.ekom21.de/raunheim/tops/?__=UGhVM0hpd2NXNFdFcExjZUU89qf5Jq-n_OWSILS7yqw\n\nBemerkung:\nKonstituierende Sitzung
UID:2026055414
LOCATION:Rathaus, 65479 Raunheim, Bürgersaal
END:VEVENT

BEGIN:VEVENT
DTSTAMP:20260421T155751Z
DTSTART:20260519T163000Z
DTEND:20260519T171500Z
SUMMARY:Verkehrsausschuss
DESCRIPTION:Link zur Tagesordnung: https://rim.ekom21.de/raunheim/tops/?__=UGhVM0hpd2NXNFdFcExjZVy_Mg4alyiIKYOFRE5GhVM\n\nBemerkung:\nKonstituierende Sitzung
UID:2026055415
LOCATION:Rathaus, 65479 Raunheim, Bürgersaal
END:VEVENT

BEGIN:VEVENT
DTSTAMP:20260421T155751Z
DTSTART:20260519T173000Z
DTEND:20260519T183000Z
SUMMARY:Haupt- und Finanzausschuss
DESCRIPTION:Link zur Tagesordnung: https://rim.ekom21.de/raunheim/tops/?__=UGhVM0hpd2NXNFdFcExjZR7FkjeR5DRL8DCwgUi42ME\n\nBemerkung:\nKonstituierende Sitzung
UID:2026055416
LOCATION:Rathaus, 65479 Raunheim, Bürgersaal
END:VEVENT

BEGIN:VEVENT
DTSTAMP:20260421T155751Z
DTSTART:20260521T173000Z
DTEND:20260521T200000Z
SUMMARY:Stadtverordnetenversammlung
DESCRIPTION:Link zur Tagesordnung: https://rim.ekom21.de/raunheim/tops/?__=UGhVM0hpd2NXNFdFcExjZZbp08w9LtNLlC5y1Q8zRFQ
UID:2026055417
LOCATION:Rathaus, 65479 Raunheim, Bürgersaal
END:VEVENT

BEGIN:VEVENT
DTSTAMP:20260421T155751Z
DTSTART:20260609T170000Z
DTEND:20260609T181000Z
SUMMARY:Ausländerbeirat
DESCRIPTION:Link zur Tagesordnung: https://rim.ekom21.de/raunheim/tops/?__=UGhVM0hpd2NXNFdFcExjZWJ9xlKOd32GG-K3QZc51aU
UID:2026065418
LOCATION:Rathaus, 65479 Raunheim, Bürgersaal
END:VEVENT

BEGIN:VEVENT
DTSTAMP:20260421T155751Z
DTSTART:20260615T163000Z
DTEND:20260615T171500Z
SUMMARY:Jugend-, Sport-, Sozial- und Kulturausschuss
DESCRIPTION:Link zur Tagesordnung: https://rim.ekom21.de/raunheim/tops/?__=UGhVM0hpd2NXNFdFcExjZYuKzXpKTbBiaIBsRvuKeaQ
UID:2026065423
LOCATION:Rathaus, 65479 Raunheim, Bürgersaal
END:VEVENT

BEGIN:VEVENT
DTSTAMP:20260421T155751Z
DTSTART:20260615T173000Z
DTEND:20260615T183000Z
SUMMARY:Bau-, Planungs- und Umweltausschuss
DESCRIPTION:Link zur Tagesordnung: https://rim.ekom21.de/raunheim/tops/?__=UGhVM0hpd2NXNFdFcExjZdQdQSdmOZYwavBUJUkM6mI
UID:2026065428
LOCATION:Rathaus, 65479 Raunheim, Bürgersaal
END:VEVENT

BEGIN:VEVENT
DTSTAMP:20260421T155751Z
DTSTART:20260616T163000Z
DTEND:20260616T171500Z
SUMMARY:Verkehrsausschuss
DESCRIPTION:Link zur Tagesordnung: https://rim.ekom21.de/raunheim/tops/?__=UGhVM0hpd2NXNFdFcExjZaCZ54BOCvL2cNwMmoBr5Lk
UID:2026065433
LOCATION:Rathaus, 65479 Raunheim, Bürgersaal
END:VEVENT

BEGIN:VEVENT
DTSTAMP:20260421T155751Z
DTSTART:20260616T173000Z
DTEND:20260616T183000Z
SUMMARY:Haupt- und Finanzausschuss
DESCRIPTION:Link zur Tagesordnung: https://rim.ekom21.de/raunheim/tops/?__=UGhVM0hpd2NXNFdFcExjZdMTDJkJVtly3O8ynLajN48
UID:2026065438
LOCATION:Rathaus, 65479 Raunheim, Bürgersaal
END:VEVENT

BEGIN:VEVENT
DTSTAMP:20260421T155751Z
DTSTART:20260618T173000Z
DTEND:20260618T200000Z
SUMMARY:Stadtverordnetenversammlung
DESCRIPTION:Link zur Tagesordnung: https://rim.ekom21.de/raunheim/tops/?__=UGhVM0hpd2NXNFdFcExjZXtKuFUwgs4b3eAjuipYlCE
UID:2026065443
LOCATION:Rathaus, 65479 Raunheim, Bürgersaal
END:VEVENT

END:VCALENDAR