BEGIN:VCALENDAR
VERSION:2.0
METHOD:PUBLISH
PRODID:-//SD.NET RIM v1.0//DE
CALSCALE:GREGORIAN
X-WR-CALNAME:SD.NET RIM
X-WR-TIMEZONE:Europe/Berlin
BEGIN:VTIMEZONE
TZID:Europe/Berlin
X-LIC-LOCATION:Europe/Berlin
BEGIN:DAYLIGHT
TZOFFSETFROM:+0100
TZOFFSETTO:+0200
TZNAME:CEST
DTSTART:19700329T020000
RRULE:FREQ=YEARLY;BYMONTH=3;BYDAY=-1SU
END:DAYLIGHT
BEGIN:STANDARD
TZOFFSETFROM:+0200
TZOFFSETTO:+0100
TZNAME:CET
DTSTART:19701025T030000
RRULE:FREQ=YEARLY;BYMONTH=10;BYDAY=-1SU
END:STANDARD
END:VTIMEZONE
BEGIN:VEVENT
DTSTAMP:20260420T043337Z
DTSTART:20260421T163000Z
DTEND:20260421T173000Z
SUMMARY:Ortsbeirat Schenklengsfeld
DESCRIPTION:Link zur Tagesordnung: https://rim.ekom21.de/schenklengsfeld/tops/?__=UGhVM0hpd2NXNFdFcExjZXWMXCpPapUIX40o-PZe39w
UID:202604862
LOCATION:Feuerwehrgerätehaus Schenklengsfeld, 36277 Schenklengsfeld, Veranstaltungssaal
END:VEVENT

BEGIN:VEVENT
DTSTAMP:20260420T043337Z
DTSTART:20260421T180000Z
DTEND:20260421T190000Z
SUMMARY:Ortsbeirat Wüstfeld
DESCRIPTION:Link zur Tagesordnung: https://rim.ekom21.de/schenklengsfeld/tops/?__=UGhVM0hpd2NXNFdFcExjZZ8xhkb7uVDRaf77FpdAAfU
UID:202604863
LOCATION:Dorfgemeinschaftshaus Wüstfeld, 36277 Schenklengsfeld, Veranstaltungssaal
END:VEVENT

END:VCALENDAR